BEGIN:VCALENDAR
VERSION:2.0
PRODID:-//UB-Event
TZID:Europe/Zurich
X-WR-TIMEZONE:Europe/Zurich
CALSCALE:GREGORIAN
BEGIN:VEVENT
SUMMARY:Podiumsgespräch: Täterschaft und Täterschutz linker Männer
UID:236979
DTSTART;TZID=Europe/Zurich;VALUE=DATE-TIME:20260508T190000
DTEND;TZID=Europe/Zurich;VALUE=DATE-TIME:20260508T210000
LAST-MODIFIED;TZID=Europe/Zurich;VALUE=DATE-TIME:20260418T062042
DTSTAMP;VALUE=DATE-TIME:20260508T190000Z
LOCATION:MONAliesA, Bernhard-Göring-Straße 152, 04277 Leipzig
URL://www.xn--untergrund-blttle-2qb.ch/events/236979/podiumsgespraech-taeterschaft-und-taeterschutz-linker-maenner-monaliesa-leipzig.html
END:VEVENT
BEGIN:VTIMEZONE
TZID:Europe/Zurich
X-LIC-LOCATION:Europe/Zurich
BEGIN:STANDARD
DTSTART;VALUE=DATE-TIME:20260508T190000
TZNAME:CET
TZOFFSETFROM:+0200
TZOFFSETTO:+0100
END:STANDARD
BEGIN:DAYLIGHT
DTSTART;VALUE=DATE-TIME:20260508T190000
TZNAME:CEST
TZOFFSETFROM:+0100
TZOFFSETTO:+0200
END:DAYLIGHT
BEGIN:STANDARD
DTSTART;VALUE=DATE-TIME:20260508T190000
TZNAME:CET
TZOFFSETFROM:+0200
TZOFFSETTO:+0100
END:STANDARD
END:VTIMEZONE
END:VCALENDAR