BEGIN:VCALENDAR
VERSION:2.0
PRODID:-//UB-Event
TZID:Europe/Zurich
X-WR-TIMEZONE:Europe/Zurich
CALSCALE:GREGORIAN
BEGIN:VEVENT
SUMMARY:Wiedereröffnung Infoladen Samizdat
UID:236978
DTSTART;TZID=Europe/Zurich;VALUE=DATE-TIME:20260504T160000
DTEND;TZID=Europe/Zurich;VALUE=DATE-TIME:20260504T180000
LAST-MODIFIED;TZID=Europe/Zurich;VALUE=DATE-TIME:20260418T062030
DTSTAMP;VALUE=DATE-TIME:20260504T160000Z
LOCATION:Infoladen Samizdat, Gießerstraße 16, 04229 Leipzig
URL://www.xn--untergrund-blttle-2qb.ch/events/236978/wiedereroeffnung-infoladen-samizdat-infoladen-samizdat-leipzig.html
END:VEVENT
BEGIN:VTIMEZONE
TZID:Europe/Zurich
X-LIC-LOCATION:Europe/Zurich
BEGIN:STANDARD
DTSTART;VALUE=DATE-TIME:20260504T160000
TZNAME:CET
TZOFFSETFROM:+0200
TZOFFSETTO:+0100
END:STANDARD
BEGIN:DAYLIGHT
DTSTART;VALUE=DATE-TIME:20260504T160000
TZNAME:CEST
TZOFFSETFROM:+0100
TZOFFSETTO:+0200
END:DAYLIGHT
BEGIN:STANDARD
DTSTART;VALUE=DATE-TIME:20260504T160000
TZNAME:CET
TZOFFSETFROM:+0200
TZOFFSETTO:+0100
END:STANDARD
END:VTIMEZONE
END:VCALENDAR