BEGIN:VCALENDAR
VERSION:2.0
PRODID:-//UB-Event
TZID:Europe/Zurich
X-WR-TIMEZONE:Europe/Zurich
CALSCALE:GREGORIAN
BEGIN:VEVENT
SUMMARY:OAT im April: „…ein bisschen wie in Belfast..“ 1. Mai 1998
UID:236976
DTSTART;TZID=Europe/Zurich;VALUE=DATE-TIME:20260428T190000
DTEND;TZID=Europe/Zurich;VALUE=DATE-TIME:20260428T210000
LAST-MODIFIED;TZID=Europe/Zurich;VALUE=DATE-TIME:20260418T062004
DTSTAMP;VALUE=DATE-TIME:20260428T190000Z
LOCATION:Conne Island, Koburger Straße 3, 04277 Leipzig
URL://www.xn--untergrund-blttle-2qb.ch/events/236976/oat-im-april-ein-bisschen-wie-in-belfast-1-mai-1998-conne-island-leipzig.html
END:VEVENT
BEGIN:VTIMEZONE
TZID:Europe/Zurich
X-LIC-LOCATION:Europe/Zurich
BEGIN:STANDARD
DTSTART;VALUE=DATE-TIME:20260428T190000
TZNAME:CET
TZOFFSETFROM:+0200
TZOFFSETTO:+0100
END:STANDARD
BEGIN:DAYLIGHT
DTSTART;VALUE=DATE-TIME:20260428T190000
TZNAME:CEST
TZOFFSETFROM:+0100
TZOFFSETTO:+0200
END:DAYLIGHT
BEGIN:STANDARD
DTSTART;VALUE=DATE-TIME:20260428T190000
TZNAME:CET
TZOFFSETFROM:+0200
TZOFFSETTO:+0100
END:STANDARD
END:VTIMEZONE
END:VCALENDAR