BEGIN:VCALENDAR
VERSION:2.0
PRODID:-//UB-Event
TZID:Europe/Zurich
X-WR-TIMEZONE:Europe/Zurich
CALSCALE:GREGORIAN
BEGIN:VEVENT
SUMMARY:Filmscreening „Die Träume, die wir teilen“ & anschliessendes Gespräch mit Regisseurin und Aktivist:innen aus Lützerath.
UID:236975
DTSTART;TZID=Europe/Zurich;VALUE=DATE-TIME:20260427T193000
DTEND;TZID=Europe/Zurich;VALUE=DATE-TIME:20260427T213000
LAST-MODIFIED;TZID=Europe/Zurich;VALUE=DATE-TIME:20260418T062001
DTSTAMP;VALUE=DATE-TIME:20260427T193000Z
LOCATION:Kinobar Prager Frühling, Bernhard-Göring-Straße 152, 04277 Leipzig
URL://www.xn--untergrund-blttle-2qb.ch/events/236975/filmscreening-die-traeume-die-wir-teilen-anschliessendes-gespraech-mit-regisseurin-und-aktivist-innen-aus-luetzerath-kinobar-prager-fruehling-leipzig.html
END:VEVENT
BEGIN:VTIMEZONE
TZID:Europe/Zurich
X-LIC-LOCATION:Europe/Zurich
BEGIN:STANDARD
DTSTART;VALUE=DATE-TIME:20260427T193000
TZNAME:CET
TZOFFSETFROM:+0200
TZOFFSETTO:+0100
END:STANDARD
BEGIN:DAYLIGHT
DTSTART;VALUE=DATE-TIME:20260427T193000
TZNAME:CEST
TZOFFSETFROM:+0100
TZOFFSETTO:+0200
END:DAYLIGHT
BEGIN:STANDARD
DTSTART;VALUE=DATE-TIME:20260427T193000
TZNAME:CET
TZOFFSETFROM:+0200
TZOFFSETTO:+0100
END:STANDARD
END:VTIMEZONE
END:VCALENDAR