BEGIN:VCALENDAR
VERSION:2.0
PRODID:-//UB-Event
TZID:Europe/Zurich
X-WR-TIMEZONE:Europe/Zurich
CALSCALE:GREGORIAN
BEGIN:VEVENT
SUMMARY:THE UNDERTONES Die Band zählt zu den Punkbands der ersten Stunde
UID:236957
DTSTART;TZID=Europe/Zurich;VALUE=DATE-TIME:20260517T210000
DTEND;TZID=Europe/Zurich;VALUE=DATE-TIME:20260517T230000
LAST-MODIFIED;TZID=Europe/Zurich;VALUE=DATE-TIME:20260417T063836
DTSTAMP;VALUE=DATE-TIME:20260517T210000Z
LOCATION:Das Bett, Schmidtstraße 12, 60326 Frankfurt am Main
URL://www.xn--untergrund-blttle-2qb.ch/events/236957/the-undertones-die-band-zaehlt-zu-den-punkbands-der-ersten-stunde-das-bett-frankfurt-am-main.html
END:VEVENT
BEGIN:VTIMEZONE
TZID:Europe/Zurich
X-LIC-LOCATION:Europe/Zurich
BEGIN:STANDARD
DTSTART;VALUE=DATE-TIME:20260517T210000
TZNAME:CET
TZOFFSETFROM:+0200
TZOFFSETTO:+0100
END:STANDARD
BEGIN:DAYLIGHT
DTSTART;VALUE=DATE-TIME:20260517T210000
TZNAME:CEST
TZOFFSETFROM:+0100
TZOFFSETTO:+0200
END:DAYLIGHT
BEGIN:STANDARD
DTSTART;VALUE=DATE-TIME:20260517T210000
TZNAME:CET
TZOFFSETFROM:+0200
TZOFFSETTO:+0100
END:STANDARD
END:VTIMEZONE
END:VCALENDAR