BEGIN:VCALENDAR
VERSION:2.0
PRODID:-//UB-Event
TZID:Europe/Zurich
X-WR-TIMEZONE:Europe/Zurich
CALSCALE:GREGORIAN
BEGIN:VEVENT
SUMMARY:BOBBY VANDAMME Der Govaneur - Tour 2026
UID:236935
DTSTART;TZID=Europe/Zurich;VALUE=DATE-TIME:20260517T210000
DTEND;TZID=Europe/Zurich;VALUE=DATE-TIME:20260517T230000
LAST-MODIFIED;TZID=Europe/Zurich;VALUE=DATE-TIME:20260417T063836
DTSTAMP;VALUE=DATE-TIME:20260517T210000Z
LOCATION:SiMM CITY, Simmeringer Hauptstraße 96a, 1110 Wien
URL://www.xn--untergrund-blttle-2qb.ch/events/236935/bobby-vandamme-der-govaneur-tour-2026-simm-city-wien.html
END:VEVENT
BEGIN:VTIMEZONE
TZID:Europe/Zurich
X-LIC-LOCATION:Europe/Zurich
BEGIN:STANDARD
DTSTART;VALUE=DATE-TIME:20260517T210000
TZNAME:CET
TZOFFSETFROM:+0200
TZOFFSETTO:+0100
END:STANDARD
BEGIN:DAYLIGHT
DTSTART;VALUE=DATE-TIME:20260517T210000
TZNAME:CEST
TZOFFSETFROM:+0100
TZOFFSETTO:+0200
END:DAYLIGHT
BEGIN:STANDARD
DTSTART;VALUE=DATE-TIME:20260517T210000
TZNAME:CET
TZOFFSETFROM:+0200
TZOFFSETTO:+0100
END:STANDARD
END:VTIMEZONE
END:VCALENDAR