BEGIN:VCALENDAR
VERSION:2.0
PRODID:-//UB-Event
TZID:Europe/Zurich
X-WR-TIMEZONE:Europe/Zurich
CALSCALE:GREGORIAN
BEGIN:VEVENT
SUMMARY:Lesung und Buchpräsentation mit Jan Brauns: ›Das Fell der Hyäne‹
UID:236926
DTSTART;TZID=Europe/Zurich;VALUE=DATE-TIME:20260507T190000
DTEND;TZID=Europe/Zurich;VALUE=DATE-TIME:20260507T210000
LAST-MODIFIED;TZID=Europe/Zurich;VALUE=DATE-TIME:20260418T061236
DTSTAMP;VALUE=DATE-TIME:20260507T190000Z
LOCATION:Bürgerwache Siegfriedplatz Saal, Rolandstraße 16, 33615 Bielefeld
URL://www.xn--untergrund-blttle-2qb.ch/events/236926/lesung-und-buchpraesentation-mit-jan-brauns-das-fell-der-hyaene-buergerwache-siegfriedplatz-saal-bielefeld.html
END:VEVENT
BEGIN:VTIMEZONE
TZID:Europe/Zurich
X-LIC-LOCATION:Europe/Zurich
BEGIN:STANDARD
DTSTART;VALUE=DATE-TIME:20260507T190000
TZNAME:CET
TZOFFSETFROM:+0200
TZOFFSETTO:+0100
END:STANDARD
BEGIN:DAYLIGHT
DTSTART;VALUE=DATE-TIME:20260507T190000
TZNAME:CEST
TZOFFSETFROM:+0100
TZOFFSETTO:+0200
END:DAYLIGHT
BEGIN:STANDARD
DTSTART;VALUE=DATE-TIME:20260507T190000
TZNAME:CET
TZOFFSETFROM:+0200
TZOFFSETTO:+0100
END:STANDARD
END:VTIMEZONE
END:VCALENDAR