BEGIN:VCALENDAR
VERSION:2.0
PRODID:-//UB-Event
TZID:Europe/Zurich
X-WR-TIMEZONE:Europe/Zurich
CALSCALE:GREGORIAN
BEGIN:VEVENT
SUMMARY:Die Festhalle während der Novemberpogrome 1938
UID:236915
DTSTART;TZID=Europe/Zurich;VALUE=DATE-TIME:20260427T180000
DTEND;TZID=Europe/Zurich;VALUE=DATE-TIME:20260427T200000
LAST-MODIFIED;TZID=Europe/Zurich;VALUE=DATE-TIME:20260418T061132
DTSTAMP;VALUE=DATE-TIME:20260427T180000Z
LOCATION:Platz vor der Festhalle, Friedrich-Ebert-Anlage, 60325 Frankfurt am Main
URL://www.xn--untergrund-blttle-2qb.ch/events/236915/die-festhalle-waehrend-der-novemberpogrome-1938-platz-vor-der-festhalle-frankfurt-am-main.html
END:VEVENT
BEGIN:VTIMEZONE
TZID:Europe/Zurich
X-LIC-LOCATION:Europe/Zurich
BEGIN:STANDARD
DTSTART;VALUE=DATE-TIME:20260427T180000
TZNAME:CET
TZOFFSETFROM:+0200
TZOFFSETTO:+0100
END:STANDARD
BEGIN:DAYLIGHT
DTSTART;VALUE=DATE-TIME:20260427T180000
TZNAME:CEST
TZOFFSETFROM:+0100
TZOFFSETTO:+0200
END:DAYLIGHT
BEGIN:STANDARD
DTSTART;VALUE=DATE-TIME:20260427T180000
TZNAME:CET
TZOFFSETFROM:+0200
TZOFFSETTO:+0100
END:STANDARD
END:VTIMEZONE
END:VCALENDAR