BEGIN:VCALENDAR
VERSION:2.0
PRODID:-//UB-Event
TZID:Europe/Zurich
X-WR-TIMEZONE:Europe/Zurich
CALSCALE:GREGORIAN
BEGIN:VEVENT
SUMMARY:PSST PLAY CLAP
UID:236890
DTSTART;TZID=Europe/Zurich;VALUE=DATE-TIME:20260603T180000
DTEND;TZID=Europe/Zurich;VALUE=DATE-TIME:20260603T200000
LAST-MODIFIED;TZID=Europe/Zurich;VALUE=DATE-TIME:20260418T054830
DTSTAMP;VALUE=DATE-TIME:20260603T180000Z
LOCATION:Cola Taxi Okay, Kronenstraße 25, 76133 Karlsruhe
URL://www.xn--untergrund-blttle-2qb.ch/events/236890/psst-play-clap-cola-taxi-okay-karlsruhe.html
END:VEVENT
BEGIN:VTIMEZONE
TZID:Europe/Zurich
X-LIC-LOCATION:Europe/Zurich
BEGIN:STANDARD
DTSTART;VALUE=DATE-TIME:20260603T180000
TZNAME:CET
TZOFFSETFROM:+0200
TZOFFSETTO:+0100
END:STANDARD
BEGIN:DAYLIGHT
DTSTART;VALUE=DATE-TIME:20260603T180000
TZNAME:CEST
TZOFFSETFROM:+0100
TZOFFSETTO:+0200
END:DAYLIGHT
BEGIN:STANDARD
DTSTART;VALUE=DATE-TIME:20260603T180000
TZNAME:CET
TZOFFSETFROM:+0200
TZOFFSETTO:+0100
END:STANDARD
END:VTIMEZONE
END:VCALENDAR