BEGIN:VCALENDAR
VERSION:2.0
PRODID:-//UB-Event
TZID:Europe/Zurich
X-WR-TIMEZONE:Europe/Zurich
CALSCALE:GREGORIAN
BEGIN:VEVENT
SUMMARY:EDGExFEST 16. und 17. Mai Hardcore Straight Edge Bands: Without a Word
UID:236838
DTSTART;TZID=Europe/Zurich;VALUE=DATE-TIME:20260516T210000
DTEND;TZID=Europe/Zurich;VALUE=DATE-TIME:20260516T230000
LAST-MODIFIED;TZID=Europe/Zurich;VALUE=DATE-TIME:20260416T063837
DTSTAMP;VALUE=DATE-TIME:20260516T210000Z
LOCATION:Kafe Kult, Oberföhringer Str. 156, 81925 München
URL://www.xn--untergrund-blttle-2qb.ch/events/236838/edgexfest-16-und-17-mai-hardcore-straight-edge-bands-without-a-word-kafe-kult-muenchen.html
END:VEVENT
BEGIN:VTIMEZONE
TZID:Europe/Zurich
X-LIC-LOCATION:Europe/Zurich
BEGIN:STANDARD
DTSTART;VALUE=DATE-TIME:20260516T210000
TZNAME:CET
TZOFFSETFROM:+0200
TZOFFSETTO:+0100
END:STANDARD
BEGIN:DAYLIGHT
DTSTART;VALUE=DATE-TIME:20260516T210000
TZNAME:CEST
TZOFFSETFROM:+0100
TZOFFSETTO:+0200
END:DAYLIGHT
BEGIN:STANDARD
DTSTART;VALUE=DATE-TIME:20260516T210000
TZNAME:CET
TZOFFSETFROM:+0200
TZOFFSETTO:+0100
END:STANDARD
END:VTIMEZONE
END:VCALENDAR