BEGIN:VCALENDAR
VERSION:2.0
PRODID:-//UB-Event
TZID:Europe/Zurich
X-WR-TIMEZONE:Europe/Zurich
CALSCALE:GREGORIAN
BEGIN:VEVENT
SUMMARY:Salon skug: Alexa Lopez, Maria Magdalena, skug Talk
UID:236738
DTSTART;TZID=Europe/Zurich;VALUE=DATE-TIME:20260421T193000
DTEND;TZID=Europe/Zurich;VALUE=DATE-TIME:20260421T213000
LAST-MODIFIED;TZID=Europe/Zurich;VALUE=DATE-TIME:20260417T055816
DTSTAMP;VALUE=DATE-TIME:20260421T193000Z
LOCATION:Loop Wien, Loop Wien, 1080 Wien
URL://www.xn--untergrund-blttle-2qb.ch/events/236738/salon-skug-alexa-lopez-maria-magdalena-skug-talk-loop-wien-wien.html
END:VEVENT
BEGIN:VTIMEZONE
TZID:Europe/Zurich
X-LIC-LOCATION:Europe/Zurich
BEGIN:STANDARD
DTSTART;VALUE=DATE-TIME:20260421T193000
TZNAME:CET
TZOFFSETFROM:+0200
TZOFFSETTO:+0100
END:STANDARD
BEGIN:DAYLIGHT
DTSTART;VALUE=DATE-TIME:20260421T193000
TZNAME:CEST
TZOFFSETFROM:+0100
TZOFFSETTO:+0200
END:DAYLIGHT
BEGIN:STANDARD
DTSTART;VALUE=DATE-TIME:20260421T193000
TZNAME:CET
TZOFFSETFROM:+0200
TZOFFSETTO:+0100
END:STANDARD
END:VTIMEZONE
END:VCALENDAR