BEGIN:VCALENDAR
VERSION:2.0
PRODID:-//UB-Event
TZID:Europe/Zurich
X-WR-TIMEZONE:Europe/Zurich
CALSCALE:GREGORIAN
BEGIN:VEVENT
SUMMARY:The Halo Effect / Special Guest: Lacuna Coil
UID:236729
DTSTART;TZID=Europe/Zurich;VALUE=DATE-TIME:20270304T210000
DTEND;TZID=Europe/Zurich;VALUE=DATE-TIME:20270304T230000
LAST-MODIFIED;TZID=Europe/Zurich;VALUE=DATE-TIME:20260417T055525
DTSTAMP;VALUE=DATE-TIME:20270304T210000Z
LOCATION:Konzertfabrik Z7, Kraftwerkstrasse 7, 4133 Pratteln
URL://www.xn--untergrund-blttle-2qb.ch/events/236729/the-halo-effect-special-guest-lacuna-coil-konzertfabrik-z7-pratteln.html
END:VEVENT
BEGIN:VTIMEZONE
TZID:Europe/Zurich
X-LIC-LOCATION:Europe/Zurich
BEGIN:STANDARD
DTSTART;VALUE=DATE-TIME:20270304T210000
TZNAME:CET
TZOFFSETFROM:+0200
TZOFFSETTO:+0100
END:STANDARD
BEGIN:DAYLIGHT
DTSTART;VALUE=DATE-TIME:20270304T210000
TZNAME:CEST
TZOFFSETFROM:+0100
TZOFFSETTO:+0200
END:DAYLIGHT
BEGIN:STANDARD
DTSTART;VALUE=DATE-TIME:20270304T210000
TZNAME:CET
TZOFFSETFROM:+0200
TZOFFSETTO:+0100
END:STANDARD
END:VTIMEZONE
END:VCALENDAR