BEGIN:VCALENDAR
VERSION:2.0
PRODID:-//UB-Event
TZID:Europe/Zurich
X-WR-TIMEZONE:Europe/Zurich
CALSCALE:GREGORIAN
BEGIN:VEVENT
SUMMARY:IGNITE Melodic-Hardcore-Band announce EU/UK tour
UID:236725
DTSTART;TZID=Europe/Zurich;VALUE=DATE-TIME:20260505T210000
DTEND;TZID=Europe/Zurich;VALUE=DATE-TIME:20260505T230000
LAST-MODIFIED;TZID=Europe/Zurich;VALUE=DATE-TIME:20260416T063824
DTSTAMP;VALUE=DATE-TIME:20260505T210000Z
LOCATION:Rock City, Carrer dels Coheters, 46132 Valencia
URL://www.xn--untergrund-blttle-2qb.ch/events/236725/ignite-melodic-hardcore-band-announce-eu-uk-tour-rock-city-valencia.html
END:VEVENT
BEGIN:VTIMEZONE
TZID:Europe/Zurich
X-LIC-LOCATION:Europe/Zurich
BEGIN:STANDARD
DTSTART;VALUE=DATE-TIME:20260505T210000
TZNAME:CET
TZOFFSETFROM:+0200
TZOFFSETTO:+0100
END:STANDARD
BEGIN:DAYLIGHT
DTSTART;VALUE=DATE-TIME:20260505T210000
TZNAME:CEST
TZOFFSETFROM:+0100
TZOFFSETTO:+0200
END:DAYLIGHT
BEGIN:STANDARD
DTSTART;VALUE=DATE-TIME:20260505T210000
TZNAME:CET
TZOFFSETFROM:+0200
TZOFFSETTO:+0100
END:STANDARD
END:VTIMEZONE
END:VCALENDAR