BEGIN:VCALENDAR
VERSION:2.0
PRODID:-//UB-Event
TZID:Europe/Zurich
X-WR-TIMEZONE:Europe/Zurich
CALSCALE:GREGORIAN
BEGIN:VEVENT
SUMMARY:Mad Professor & HFS-Dub
UID:236716
DTSTART;TZID=Europe/Zurich;VALUE=DATE-TIME:20260528T210000
DTEND;TZID=Europe/Zurich;VALUE=DATE-TIME:20260528T230000
LAST-MODIFIED;TZID=Europe/Zurich;VALUE=DATE-TIME:20260417T055505
DTSTAMP;VALUE=DATE-TIME:20260528T210000Z
LOCATION:Kaserne, Klybeckstrasse 1b, 4057 Basel
URL://www.xn--untergrund-blttle-2qb.ch/events/236716/mad-professor-hfs-dub-kaserne-basel.html
END:VEVENT
BEGIN:VTIMEZONE
TZID:Europe/Zurich
X-LIC-LOCATION:Europe/Zurich
BEGIN:STANDARD
DTSTART;VALUE=DATE-TIME:20260528T210000
TZNAME:CET
TZOFFSETFROM:+0200
TZOFFSETTO:+0100
END:STANDARD
BEGIN:DAYLIGHT
DTSTART;VALUE=DATE-TIME:20260528T210000
TZNAME:CEST
TZOFFSETFROM:+0100
TZOFFSETTO:+0200
END:DAYLIGHT
BEGIN:STANDARD
DTSTART;VALUE=DATE-TIME:20260528T210000
TZNAME:CET
TZOFFSETFROM:+0200
TZOFFSETTO:+0100
END:STANDARD
END:VTIMEZONE
END:VCALENDAR