BEGIN:VCALENDAR
VERSION:2.0
PRODID:-//UB-Event
TZID:Europe/Zurich
X-WR-TIMEZONE:Europe/Zurich
CALSCALE:GREGORIAN
BEGIN:VEVENT
SUMMARY:Talk is cheap – Pop und die Sozialwissenschaften, Lecture # 58
UID:236705
DTSTART;TZID=Europe/Zurich;VALUE=DATE-TIME:20260614T200000
DTEND;TZID=Europe/Zurich;VALUE=DATE-TIME:20260614T220000
LAST-MODIFIED;TZID=Europe/Zurich;VALUE=DATE-TIME:20260415T064007
DTSTAMP;VALUE=DATE-TIME:20260614T200000Z
LOCATION:iRRland2, Bergmannstraße 4, 80339 München
URL://www.xn--untergrund-blttle-2qb.ch/events/236705/talk-is-cheap-pop-und-die-sozialwissenschaften-lecture-58-irrland2-muenchen.html
END:VEVENT
BEGIN:VTIMEZONE
TZID:Europe/Zurich
X-LIC-LOCATION:Europe/Zurich
BEGIN:STANDARD
DTSTART;VALUE=DATE-TIME:20260614T200000
TZNAME:CET
TZOFFSETFROM:+0200
TZOFFSETTO:+0100
END:STANDARD
BEGIN:DAYLIGHT
DTSTART;VALUE=DATE-TIME:20260614T200000
TZNAME:CEST
TZOFFSETFROM:+0100
TZOFFSETTO:+0200
END:DAYLIGHT
BEGIN:STANDARD
DTSTART;VALUE=DATE-TIME:20260614T200000
TZNAME:CET
TZOFFSETFROM:+0200
TZOFFSETTO:+0100
END:STANDARD
END:VTIMEZONE
END:VCALENDAR