BEGIN:VCALENDAR
VERSION:2.0
PRODID:-//UB-Event
TZID:Europe/Zurich
X-WR-TIMEZONE:Europe/Zurich
CALSCALE:GREGORIAN
BEGIN:VEVENT
SUMMARY:Rock over Franken - Tribute Night SAN DALEN & TWISTED SISTERS Tribute to Van
UID:236698
DTSTART;TZID=Europe/Zurich;VALUE=DATE-TIME:20260515T210000
DTEND;TZID=Europe/Zurich;VALUE=DATE-TIME:20260515T230000
LAST-MODIFIED;TZID=Europe/Zurich;VALUE=DATE-TIME:20260415T063836
DTSTAMP;VALUE=DATE-TIME:20260515T210000Z
LOCATION:Der Hirsch, Vogelweiherstraße 66, 90441 Nürnberg
URL://www.xn--untergrund-blttle-2qb.ch/events/236698/rock-over-franken-tribute-night-san-dalen-twisted-sisters-tribute-to-van-der-hirsch-nuernberg.html
END:VEVENT
BEGIN:VTIMEZONE
TZID:Europe/Zurich
X-LIC-LOCATION:Europe/Zurich
BEGIN:STANDARD
DTSTART;VALUE=DATE-TIME:20260515T210000
TZNAME:CET
TZOFFSETFROM:+0200
TZOFFSETTO:+0100
END:STANDARD
BEGIN:DAYLIGHT
DTSTART;VALUE=DATE-TIME:20260515T210000
TZNAME:CEST
TZOFFSETFROM:+0100
TZOFFSETTO:+0200
END:DAYLIGHT
BEGIN:STANDARD
DTSTART;VALUE=DATE-TIME:20260515T210000
TZNAME:CET
TZOFFSETFROM:+0200
TZOFFSETTO:+0100
END:STANDARD
END:VTIMEZONE
END:VCALENDAR