BEGIN:VCALENDAR
VERSION:2.0
PRODID:-//UB-Event
TZID:Europe/Zurich
X-WR-TIMEZONE:Europe/Zurich
CALSCALE:GREGORIAN
BEGIN:VEVENT
SUMMARY:Bobby Vandamme Der "Govaneur" kehrt zurück und verspricht eine noch
UID:236688
DTSTART;TZID=Europe/Zurich;VALUE=DATE-TIME:20260515T210000
DTEND;TZID=Europe/Zurich;VALUE=DATE-TIME:20260515T230000
LAST-MODIFIED;TZID=Europe/Zurich;VALUE=DATE-TIME:20260415T063836
DTSTAMP;VALUE=DATE-TIME:20260515T210000Z
LOCATION:Porsche Arena, Mercedesstraße 69, 70372 Stuttgart
URL://www.xn--untergrund-blttle-2qb.ch/events/236688/bobby-vandamme-der-govaneur-kehrt-zurueck-und-verspricht-eine-noch-porsche-arena-stuttgart.html
END:VEVENT
BEGIN:VTIMEZONE
TZID:Europe/Zurich
X-LIC-LOCATION:Europe/Zurich
BEGIN:STANDARD
DTSTART;VALUE=DATE-TIME:20260515T210000
TZNAME:CET
TZOFFSETFROM:+0200
TZOFFSETTO:+0100
END:STANDARD
BEGIN:DAYLIGHT
DTSTART;VALUE=DATE-TIME:20260515T210000
TZNAME:CEST
TZOFFSETFROM:+0100
TZOFFSETTO:+0200
END:DAYLIGHT
BEGIN:STANDARD
DTSTART;VALUE=DATE-TIME:20260515T210000
TZNAME:CET
TZOFFSETFROM:+0200
TZOFFSETTO:+0100
END:STANDARD
END:VTIMEZONE
END:VCALENDAR