BEGIN:VCALENDAR
VERSION:2.0
PRODID:-//UB-Event
TZID:Europe/Zurich
X-WR-TIMEZONE:Europe/Zurich
CALSCALE:GREGORIAN
BEGIN:VEVENT
SUMMARY:TOKYO METAL NIGHT ON TOUR RISKY MELODY gehört zu den bekanntesten rein weiblichen
UID:236678
DTSTART;TZID=Europe/Zurich;VALUE=DATE-TIME:20260515T210000
DTEND;TZID=Europe/Zurich;VALUE=DATE-TIME:20260515T230000
LAST-MODIFIED;TZID=Europe/Zurich;VALUE=DATE-TIME:20260415T063836
DTSTAMP;VALUE=DATE-TIME:20260515T210000Z
LOCATION:Garagen, Oskar-Jäger-Straße 179, 50825 Köln
URL://www.xn--untergrund-blttle-2qb.ch/events/236678/tokyo-metal-night-on-tour-risky-melody-gehoert-zu-den-bekanntesten-rein-weiblichen-garagen-koeln.html
END:VEVENT
BEGIN:VTIMEZONE
TZID:Europe/Zurich
X-LIC-LOCATION:Europe/Zurich
BEGIN:STANDARD
DTSTART;VALUE=DATE-TIME:20260515T210000
TZNAME:CET
TZOFFSETFROM:+0200
TZOFFSETTO:+0100
END:STANDARD
BEGIN:DAYLIGHT
DTSTART;VALUE=DATE-TIME:20260515T210000
TZNAME:CEST
TZOFFSETFROM:+0100
TZOFFSETTO:+0200
END:DAYLIGHT
BEGIN:STANDARD
DTSTART;VALUE=DATE-TIME:20260515T210000
TZNAME:CET
TZOFFSETFROM:+0200
TZOFFSETTO:+0100
END:STANDARD
END:VTIMEZONE
END:VCALENDAR