BEGIN:VCALENDAR
VERSION:2.0
PRODID:-//UB-Event
TZID:Europe/Zurich
X-WR-TIMEZONE:Europe/Zurich
CALSCALE:GREGORIAN
BEGIN:VEVENT
SUMMARY:Tag der Frauenarchive in Leipzig
UID:236668
DTSTART;TZID=Europe/Zurich;VALUE=DATE-TIME:20260511T130000
DTEND;TZID=Europe/Zurich;VALUE=DATE-TIME:20260511T150000
LAST-MODIFIED;TZID=Europe/Zurich;VALUE=DATE-TIME:20260416T062100
DTSTAMP;VALUE=DATE-TIME:20260511T130000Z
LOCATION:Literaturhaus Leipzig, Gerichtsweg 28, 04103 Leipzig
URL://www.xn--untergrund-blttle-2qb.ch/events/236668/tag-der-frauenarchive-in-leipzig-literaturhaus-leipzig-leipzig.html
END:VEVENT
BEGIN:VTIMEZONE
TZID:Europe/Zurich
X-LIC-LOCATION:Europe/Zurich
BEGIN:STANDARD
DTSTART;VALUE=DATE-TIME:20260511T130000
TZNAME:CET
TZOFFSETFROM:+0200
TZOFFSETTO:+0100
END:STANDARD
BEGIN:DAYLIGHT
DTSTART;VALUE=DATE-TIME:20260511T130000
TZNAME:CEST
TZOFFSETFROM:+0100
TZOFFSETTO:+0200
END:DAYLIGHT
BEGIN:STANDARD
DTSTART;VALUE=DATE-TIME:20260511T130000
TZNAME:CET
TZOFFSETFROM:+0200
TZOFFSETTO:+0100
END:STANDARD
END:VTIMEZONE
END:VCALENDAR