BEGIN:VCALENDAR
VERSION:2.0
PRODID:-//UB-Event
TZID:Europe/Zurich
X-WR-TIMEZONE:Europe/Zurich
CALSCALE:GREGORIAN
BEGIN:VEVENT
SUMMARY:War is a Promise - Verpest - Anti Human Pestcore Wave of Fear - Raw Punk
UID:236634
DTSTART;TZID=Europe/Zurich;VALUE=DATE-TIME:20260514T210000
DTEND;TZID=Europe/Zurich;VALUE=DATE-TIME:20260514T230000
LAST-MODIFIED;TZID=Europe/Zurich;VALUE=DATE-TIME:20260415T063835
DTSTAMP;VALUE=DATE-TIME:20260514T210000Z
LOCATION:Halle am Rhein, Am Faulbach 2, 51063 Köln
URL://www.xn--untergrund-blttle-2qb.ch/events/236634/war-is-a-promise-verpest-anti-human-pestcore-wave-of-fear-raw-punk-halle-am-rhein-koeln.html
END:VEVENT
BEGIN:VTIMEZONE
TZID:Europe/Zurich
X-LIC-LOCATION:Europe/Zurich
BEGIN:STANDARD
DTSTART;VALUE=DATE-TIME:20260514T210000
TZNAME:CET
TZOFFSETFROM:+0200
TZOFFSETTO:+0100
END:STANDARD
BEGIN:DAYLIGHT
DTSTART;VALUE=DATE-TIME:20260514T210000
TZNAME:CEST
TZOFFSETFROM:+0100
TZOFFSETTO:+0200
END:DAYLIGHT
BEGIN:STANDARD
DTSTART;VALUE=DATE-TIME:20260514T210000
TZNAME:CET
TZOFFSETFROM:+0200
TZOFFSETTO:+0100
END:STANDARD
END:VTIMEZONE
END:VCALENDAR