BEGIN:VCALENDAR
VERSION:2.0
PRODID:-//UB-Event
TZID:Europe/Zurich
X-WR-TIMEZONE:Europe/Zurich
CALSCALE:GREGORIAN
BEGIN:VEVENT
SUMMARY:DenkArt: Im Schmelztiegel der Angst
UID:236629
DTSTART;TZID=Europe/Zurich;VALUE=DATE-TIME:20260630T193000
DTEND;TZID=Europe/Zurich;VALUE=DATE-TIME:20260630T213000
LAST-MODIFIED;TZID=Europe/Zurich;VALUE=DATE-TIME:20260416T061218
DTSTAMP;VALUE=DATE-TIME:20260630T193000Z
LOCATION:Haus am Dom, Domplatz 3, 60311 Frankfurt am Main
URL://www.xn--untergrund-blttle-2qb.ch/events/236629/denkart-im-schmelztiegel-der-angst-haus-am-dom-frankfurt-am-main.html
END:VEVENT
BEGIN:VTIMEZONE
TZID:Europe/Zurich
X-LIC-LOCATION:Europe/Zurich
BEGIN:STANDARD
DTSTART;VALUE=DATE-TIME:20260630T193000
TZNAME:CET
TZOFFSETFROM:+0200
TZOFFSETTO:+0100
END:STANDARD
BEGIN:DAYLIGHT
DTSTART;VALUE=DATE-TIME:20260630T193000
TZNAME:CEST
TZOFFSETFROM:+0100
TZOFFSETTO:+0200
END:DAYLIGHT
BEGIN:STANDARD
DTSTART;VALUE=DATE-TIME:20260630T193000
TZNAME:CET
TZOFFSETFROM:+0200
TZOFFSETTO:+0100
END:STANDARD
END:VTIMEZONE
END:VCALENDAR