BEGIN:VCALENDAR
VERSION:2.0
PRODID:-//UB-Event
TZID:Europe/Zurich
X-WR-TIMEZONE:Europe/Zurich
CALSCALE:GREGORIAN
BEGIN:VEVENT
SUMMARY:Film: Sabbath Queen
UID:236621
DTSTART;TZID=Europe/Zurich;VALUE=DATE-TIME:20260505T203000
DTEND;TZID=Europe/Zurich;VALUE=DATE-TIME:20260505T223000
LAST-MODIFIED;TZID=Europe/Zurich;VALUE=DATE-TIME:20260416T061139
DTSTAMP;VALUE=DATE-TIME:20260505T203000Z
LOCATION:Cinema Kino, Roßmarkt 7, 60311 Frankfurt am Main
URL://www.xn--untergrund-blttle-2qb.ch/events/236621/film-sabbath-queen-cinema-kino-frankfurt-am-main.html
END:VEVENT
BEGIN:VTIMEZONE
TZID:Europe/Zurich
X-LIC-LOCATION:Europe/Zurich
BEGIN:STANDARD
DTSTART;VALUE=DATE-TIME:20260505T203000
TZNAME:CET
TZOFFSETFROM:+0200
TZOFFSETTO:+0100
END:STANDARD
BEGIN:DAYLIGHT
DTSTART;VALUE=DATE-TIME:20260505T203000
TZNAME:CEST
TZOFFSETFROM:+0100
TZOFFSETTO:+0200
END:DAYLIGHT
BEGIN:STANDARD
DTSTART;VALUE=DATE-TIME:20260505T203000
TZNAME:CET
TZOFFSETFROM:+0200
TZOFFSETTO:+0100
END:STANDARD
END:VTIMEZONE
END:VCALENDAR