BEGIN:VCALENDAR
VERSION:2.0
PRODID:-//UB-Event
TZID:Europe/Zurich
X-WR-TIMEZONE:Europe/Zurich
CALSCALE:GREGORIAN
BEGIN:VEVENT
SUMMARY:Eröffnung von zwei neuen Ausstellungen im Hochbunker
UID:236619
DTSTART;TZID=Europe/Zurich;VALUE=DATE-TIME:20260503T170000
DTEND;TZID=Europe/Zurich;VALUE=DATE-TIME:20260503T190000
LAST-MODIFIED;TZID=Europe/Zurich;VALUE=DATE-TIME:20260416T061134
DTSTAMP;VALUE=DATE-TIME:20260503T170000Z
LOCATION:Hochbunker, Friedberger Anlage 5-6, 60314 Frankfurt am Main
URL://www.xn--untergrund-blttle-2qb.ch/events/236619/eroeffnung-von-zwei-neuen-ausstellungen-im-hochbunker-hochbunker-frankfurt-am-main.html
END:VEVENT
BEGIN:VTIMEZONE
TZID:Europe/Zurich
X-LIC-LOCATION:Europe/Zurich
BEGIN:STANDARD
DTSTART;VALUE=DATE-TIME:20260503T170000
TZNAME:CET
TZOFFSETFROM:+0200
TZOFFSETTO:+0100
END:STANDARD
BEGIN:DAYLIGHT
DTSTART;VALUE=DATE-TIME:20260503T170000
TZNAME:CEST
TZOFFSETFROM:+0100
TZOFFSETTO:+0200
END:DAYLIGHT
BEGIN:STANDARD
DTSTART;VALUE=DATE-TIME:20260503T170000
TZNAME:CET
TZOFFSETFROM:+0200
TZOFFSETTO:+0100
END:STANDARD
END:VTIMEZONE
END:VCALENDAR