BEGIN:VCALENDAR
VERSION:2.0
PRODID:-//UB-Event
TZID:Europe/Zurich
X-WR-TIMEZONE:Europe/Zurich
CALSCALE:GREGORIAN
BEGIN:VEVENT
SUMMARY:Rami Hattab* Halt's Maul und tanz! - Tour 2026 Singer/Songwriter Konzer
UID:236605
DTSTART;TZID=Europe/Zurich;VALUE=DATE-TIME:20260501T210000
DTEND;TZID=Europe/Zurich;VALUE=DATE-TIME:20260501T230000
LAST-MODIFIED;TZID=Europe/Zurich;VALUE=DATE-TIME:20260415T063822
DTSTAMP;VALUE=DATE-TIME:20260501T210000Z
LOCATION:Schlachthof Wiesbaden, Murnaustraße, 65189 Wiesbaden
URL://www.xn--untergrund-blttle-2qb.ch/events/236605/rami-hattab-halt-s-maul-und-tanz-tour-2026-singer-songwriter-konzer-schlachthof-wiesbaden-wiesbaden.html
END:VEVENT
BEGIN:VTIMEZONE
TZID:Europe/Zurich
X-LIC-LOCATION:Europe/Zurich
BEGIN:STANDARD
DTSTART;VALUE=DATE-TIME:20260501T210000
TZNAME:CET
TZOFFSETFROM:+0200
TZOFFSETTO:+0100
END:STANDARD
BEGIN:DAYLIGHT
DTSTART;VALUE=DATE-TIME:20260501T210000
TZNAME:CEST
TZOFFSETFROM:+0100
TZOFFSETTO:+0200
END:DAYLIGHT
BEGIN:STANDARD
DTSTART;VALUE=DATE-TIME:20260501T210000
TZNAME:CET
TZOFFSETFROM:+0200
TZOFFSETTO:+0100
END:STANDARD
END:VTIMEZONE
END:VCALENDAR