BEGIN:VCALENDAR
VERSION:2.0
PRODID:-//UB-Event
TZID:Europe/Zurich
X-WR-TIMEZONE:Europe/Zurich
CALSCALE:GREGORIAN
BEGIN:VEVENT
SUMMARY:Lesung aus „Sju dagar i august“ von und mit Brit Bildøen (Gesellschaftszimmer UG)
UID:236512
DTSTART;TZID=Europe/Zurich;VALUE=DATE-TIME:20260505T210000
DTEND;TZID=Europe/Zurich;VALUE=DATE-TIME:20260505T230000
LAST-MODIFIED;TZID=Europe/Zurich;VALUE=DATE-TIME:20260414T063829
DTSTAMP;VALUE=DATE-TIME:20260505T210000Z
LOCATION:SpecOps Network, Aegidiimarkt 5, 48143 Münster
URL://www.xn--untergrund-blttle-2qb.ch/events/236512/lesung-aus-sju-dagar-i-august-von-und-mit-brit-bildoeen-gesellschaftszimmer-ug-specops-network-muenster.html
END:VEVENT
BEGIN:VTIMEZONE
TZID:Europe/Zurich
X-LIC-LOCATION:Europe/Zurich
BEGIN:STANDARD
DTSTART;VALUE=DATE-TIME:20260505T210000
TZNAME:CET
TZOFFSETFROM:+0200
TZOFFSETTO:+0100
END:STANDARD
BEGIN:DAYLIGHT
DTSTART;VALUE=DATE-TIME:20260505T210000
TZNAME:CEST
TZOFFSETFROM:+0100
TZOFFSETTO:+0200
END:DAYLIGHT
BEGIN:STANDARD
DTSTART;VALUE=DATE-TIME:20260505T210000
TZNAME:CET
TZOFFSETFROM:+0200
TZOFFSETTO:+0100
END:STANDARD
END:VTIMEZONE
END:VCALENDAR