BEGIN:VCALENDAR
VERSION:2.0
PRODID:-//UB-Event
TZID:Europe/Zurich
X-WR-TIMEZONE:Europe/Zurich
CALSCALE:GREGORIAN
BEGIN:VEVENT
SUMMARY:ACHT EIMER HÜHNERHERZEN Deutschpunk-Band aus Berlin-Kreuzberg
UID:236490
DTSTART;TZID=Europe/Zurich;VALUE=DATE-TIME:20260501T210000
DTEND;TZID=Europe/Zurich;VALUE=DATE-TIME:20260501T230000
LAST-MODIFIED;TZID=Europe/Zurich;VALUE=DATE-TIME:20260415T063822
DTSTAMP;VALUE=DATE-TIME:20260501T210000Z
LOCATION:Schlachthof, Mombachstraße 12, 34127 Kassel
URL://www.xn--untergrund-blttle-2qb.ch/events/236490/acht-eimer-huehnerherzen-deutschpunk-band-aus-berlin-kreuzberg-schlachthof-kassel.html
END:VEVENT
BEGIN:VTIMEZONE
TZID:Europe/Zurich
X-LIC-LOCATION:Europe/Zurich
BEGIN:STANDARD
DTSTART;VALUE=DATE-TIME:20260501T210000
TZNAME:CET
TZOFFSETFROM:+0200
TZOFFSETTO:+0100
END:STANDARD
BEGIN:DAYLIGHT
DTSTART;VALUE=DATE-TIME:20260501T210000
TZNAME:CEST
TZOFFSETFROM:+0100
TZOFFSETTO:+0200
END:DAYLIGHT
BEGIN:STANDARD
DTSTART;VALUE=DATE-TIME:20260501T210000
TZNAME:CET
TZOFFSETFROM:+0200
TZOFFSETTO:+0100
END:STANDARD
END:VTIMEZONE
END:VCALENDAR