BEGIN:VCALENDAR
VERSION:2.0
PRODID:-//UB-Event
TZID:Europe/Zurich
X-WR-TIMEZONE:Europe/Zurich
CALSCALE:GREGORIAN
BEGIN:VEVENT
SUMMARY:Dokumentarfilm WOLKEN ÜBER LÜTZERATH
UID:236480
DTSTART;TZID=Europe/Zurich;VALUE=DATE-TIME:20260527T200000
DTEND;TZID=Europe/Zurich;VALUE=DATE-TIME:20260527T220000
LAST-MODIFIED;TZID=Europe/Zurich;VALUE=DATE-TIME:20260414T062058
DTSTAMP;VALUE=DATE-TIME:20260527T200000Z
LOCATION:UT Connewitz, Wolfgang-Heinze-Straße 12a, 04277 Leipzig
URL://www.xn--untergrund-blttle-2qb.ch/events/236480/dokumentarfilm-wolken-ueber-luetzerath-ut-connewitz-leipzig.html
END:VEVENT
BEGIN:VTIMEZONE
TZID:Europe/Zurich
X-LIC-LOCATION:Europe/Zurich
BEGIN:STANDARD
DTSTART;VALUE=DATE-TIME:20260527T200000
TZNAME:CET
TZOFFSETFROM:+0200
TZOFFSETTO:+0100
END:STANDARD
BEGIN:DAYLIGHT
DTSTART;VALUE=DATE-TIME:20260527T200000
TZNAME:CEST
TZOFFSETFROM:+0100
TZOFFSETTO:+0200
END:DAYLIGHT
BEGIN:STANDARD
DTSTART;VALUE=DATE-TIME:20260527T200000
TZNAME:CET
TZOFFSETFROM:+0200
TZOFFSETTO:+0100
END:STANDARD
END:VTIMEZONE
END:VCALENDAR