BEGIN:VCALENDAR
VERSION:2.0
PRODID:-//UB-Event
TZID:Europe/Zurich
X-WR-TIMEZONE:Europe/Zurich
CALSCALE:GREGORIAN
BEGIN:VEVENT
SUMMARY:Videoüberwachung für Sicherheit (?) oder für Kontrolle
UID:236464
DTSTART;TZID=Europe/Zurich;VALUE=DATE-TIME:20260530T140000
DTEND;TZID=Europe/Zurich;VALUE=DATE-TIME:20260530T160000
LAST-MODIFIED;TZID=Europe/Zurich;VALUE=DATE-TIME:20260414T061254
DTSTAMP;VALUE=DATE-TIME:20260530T140000Z
LOCATION:vor NiKa-Haus, Karlstraße/Ecke Niddastraße, 60329 Frankfurt am Main
URL://www.xn--untergrund-blttle-2qb.ch/events/236464/videoueberwachung-fuer-sicherheit-oder-fuer-kontrolle-vor-nika-haus-frankfurt-am-main.html
END:VEVENT
BEGIN:VTIMEZONE
TZID:Europe/Zurich
X-LIC-LOCATION:Europe/Zurich
BEGIN:STANDARD
DTSTART;VALUE=DATE-TIME:20260530T140000
TZNAME:CET
TZOFFSETFROM:+0200
TZOFFSETTO:+0100
END:STANDARD
BEGIN:DAYLIGHT
DTSTART;VALUE=DATE-TIME:20260530T140000
TZNAME:CEST
TZOFFSETFROM:+0100
TZOFFSETTO:+0200
END:DAYLIGHT
BEGIN:STANDARD
DTSTART;VALUE=DATE-TIME:20260530T140000
TZNAME:CET
TZOFFSETFROM:+0200
TZOFFSETTO:+0100
END:STANDARD
END:VTIMEZONE
END:VCALENDAR