BEGIN:VCALENDAR
VERSION:2.0
PRODID:-//UB-Event
TZID:Europe/Zurich
X-WR-TIMEZONE:Europe/Zurich
CALSCALE:GREGORIAN
BEGIN:VEVENT
SUMMARY:Festival Cumbia Migrante
UID:236456
DTSTART;TZID=Europe/Zurich;VALUE=DATE-TIME:20260502T150000
DTEND;TZID=Europe/Zurich;VALUE=DATE-TIME:20260502T170000
LAST-MODIFIED;TZID=Europe/Zurich;VALUE=DATE-TIME:20260414T061210
DTSTAMP;VALUE=DATE-TIME:20260502T150000Z
LOCATION:Studierendenhaus, Mertonstraße 26, 60325 Frankfurt am Main
URL://www.xn--untergrund-blttle-2qb.ch/events/236456/festival-cumbia-migrante-studierendenhaus-frankfurt-am-main.html
END:VEVENT
BEGIN:VTIMEZONE
TZID:Europe/Zurich
X-LIC-LOCATION:Europe/Zurich
BEGIN:STANDARD
DTSTART;VALUE=DATE-TIME:20260502T150000
TZNAME:CET
TZOFFSETFROM:+0200
TZOFFSETTO:+0100
END:STANDARD
BEGIN:DAYLIGHT
DTSTART;VALUE=DATE-TIME:20260502T150000
TZNAME:CEST
TZOFFSETFROM:+0100
TZOFFSETTO:+0200
END:DAYLIGHT
BEGIN:STANDARD
DTSTART;VALUE=DATE-TIME:20260502T150000
TZNAME:CET
TZOFFSETFROM:+0200
TZOFFSETTO:+0100
END:STANDARD
END:VTIMEZONE
END:VCALENDAR