BEGIN:VCALENDAR
VERSION:2.0
PRODID:-//UB-Event
TZID:Europe/Zurich
X-WR-TIMEZONE:Europe/Zurich
CALSCALE:GREGORIAN
BEGIN:VEVENT
SUMMARY:Lasst die Arbeit ruhen. Keine Stunde für den Krieg
UID:236451
DTSTART;TZID=Europe/Zurich;VALUE=DATE-TIME:20260430T180000
DTEND;TZID=Europe/Zurich;VALUE=DATE-TIME:20260430T200000
LAST-MODIFIED;TZID=Europe/Zurich;VALUE=DATE-TIME:20260414T061206
DTSTAMP;VALUE=DATE-TIME:20260430T180000Z
LOCATION:DGB-Haus, Wilhelm-Leuschner-Straße 69/77, 60329 Frankfurt am Main
URL://www.xn--untergrund-blttle-2qb.ch/events/236451/lasst-die-arbeit-ruhen-keine-stunde-fuer-den-krieg-dgb-haus-frankfurt-am-main.html
END:VEVENT
BEGIN:VTIMEZONE
TZID:Europe/Zurich
X-LIC-LOCATION:Europe/Zurich
BEGIN:STANDARD
DTSTART;VALUE=DATE-TIME:20260430T180000
TZNAME:CET
TZOFFSETFROM:+0200
TZOFFSETTO:+0100
END:STANDARD
BEGIN:DAYLIGHT
DTSTART;VALUE=DATE-TIME:20260430T180000
TZNAME:CEST
TZOFFSETFROM:+0100
TZOFFSETTO:+0200
END:DAYLIGHT
BEGIN:STANDARD
DTSTART;VALUE=DATE-TIME:20260430T180000
TZNAME:CET
TZOFFSETFROM:+0200
TZOFFSETTO:+0100
END:STANDARD
END:VTIMEZONE
END:VCALENDAR