BEGIN:VCALENDAR
VERSION:2.0
PRODID:-//UB-Event
TZID:Europe/Zurich
X-WR-TIMEZONE:Europe/Zurich
CALSCALE:GREGORIAN
BEGIN:VEVENT
SUMMARY:Lesung: Mut zum Widerstand
UID:236450
DTSTART;TZID=Europe/Zurich;VALUE=DATE-TIME:20260427T180000
DTEND;TZID=Europe/Zurich;VALUE=DATE-TIME:20260427T200000
LAST-MODIFIED;TZID=Europe/Zurich;VALUE=DATE-TIME:20260414T061153
DTSTAMP;VALUE=DATE-TIME:20260427T180000Z
LOCATION:Volkshochschule Offenbach (Saal 109/110), Berliner Str. 77, 63065 Offenbach am Main
URL://www.xn--untergrund-blttle-2qb.ch/events/236450/lesung-mut-zum-widerstand-volkshochschule-offenbach-saal-109-110-offenbach-am-main.html
END:VEVENT
BEGIN:VTIMEZONE
TZID:Europe/Zurich
X-LIC-LOCATION:Europe/Zurich
BEGIN:STANDARD
DTSTART;VALUE=DATE-TIME:20260427T180000
TZNAME:CET
TZOFFSETFROM:+0200
TZOFFSETTO:+0100
END:STANDARD
BEGIN:DAYLIGHT
DTSTART;VALUE=DATE-TIME:20260427T180000
TZNAME:CEST
TZOFFSETFROM:+0100
TZOFFSETTO:+0200
END:DAYLIGHT
BEGIN:STANDARD
DTSTART;VALUE=DATE-TIME:20260427T180000
TZNAME:CET
TZOFFSETFROM:+0200
TZOFFSETTO:+0100
END:STANDARD
END:VTIMEZONE
END:VCALENDAR