BEGIN:VCALENDAR
VERSION:2.0
PRODID:-//UB-Event
TZID:Europe/Zurich
X-WR-TIMEZONE:Europe/Zurich
CALSCALE:GREGORIAN
BEGIN:VEVENT
SUMMARY:Ostend – Blick in ein jüdisches Viertel
UID:236449
DTSTART;TZID=Europe/Zurich;VALUE=DATE-TIME:20260426T113000
DTEND;TZID=Europe/Zurich;VALUE=DATE-TIME:20260426T133000
LAST-MODIFIED;TZID=Europe/Zurich;VALUE=DATE-TIME:20260414T061147
DTSTAMP;VALUE=DATE-TIME:20260426T113000Z
LOCATION:Hochbunker, Friedberger Anlage 5-6, 60314 Frankfurt am Main
URL://www.xn--untergrund-blttle-2qb.ch/events/236449/ostend-blick-in-ein-juedisches-viertel-hochbunker-frankfurt-am-main.html
END:VEVENT
BEGIN:VTIMEZONE
TZID:Europe/Zurich
X-LIC-LOCATION:Europe/Zurich
BEGIN:STANDARD
DTSTART;VALUE=DATE-TIME:20260426T113000
TZNAME:CET
TZOFFSETFROM:+0200
TZOFFSETTO:+0100
END:STANDARD
BEGIN:DAYLIGHT
DTSTART;VALUE=DATE-TIME:20260426T113000
TZNAME:CEST
TZOFFSETFROM:+0100
TZOFFSETTO:+0200
END:DAYLIGHT
BEGIN:STANDARD
DTSTART;VALUE=DATE-TIME:20260426T113000
TZNAME:CET
TZOFFSETFROM:+0200
TZOFFSETTO:+0100
END:STANDARD
END:VTIMEZONE
END:VCALENDAR