BEGIN:VCALENDAR
VERSION:2.0
PRODID:-//UB-Event
TZID:Europe/Zurich
X-WR-TIMEZONE:Europe/Zurich
CALSCALE:GREGORIAN
BEGIN:VEVENT
SUMMARY:Acid Mothers Temple (jp), VÍZ drone noise rock | psychedelic | space rock |
UID:236419
DTSTART;TZID=Europe/Zurich;VALUE=DATE-TIME:20260501T210000
DTEND;TZID=Europe/Zurich;VALUE=DATE-TIME:20260501T230000
LAST-MODIFIED;TZID=Europe/Zurich;VALUE=DATE-TIME:20260415T063822
DTSTAMP;VALUE=DATE-TIME:20260501T210000Z
LOCATION:MS Stubnitz, Kirchenpauerkai Baakenhafen 26, 20457 Hamburg
URL://www.xn--untergrund-blttle-2qb.ch/events/236419/acid-mothers-temple-jp-viz-drone-noise-rock-psychedelic-space-rock-ms-stubnitz-hamburg.html
END:VEVENT
BEGIN:VTIMEZONE
TZID:Europe/Zurich
X-LIC-LOCATION:Europe/Zurich
BEGIN:STANDARD
DTSTART;VALUE=DATE-TIME:20260501T210000
TZNAME:CET
TZOFFSETFROM:+0200
TZOFFSETTO:+0100
END:STANDARD
BEGIN:DAYLIGHT
DTSTART;VALUE=DATE-TIME:20260501T210000
TZNAME:CEST
TZOFFSETFROM:+0100
TZOFFSETTO:+0200
END:DAYLIGHT
BEGIN:STANDARD
DTSTART;VALUE=DATE-TIME:20260501T210000
TZNAME:CET
TZOFFSETFROM:+0200
TZOFFSETTO:+0100
END:STANDARD
END:VTIMEZONE
END:VCALENDAR