BEGIN:VCALENDAR
VERSION:2.0
PRODID:-//UB-Event
TZID:Europe/Zurich
X-WR-TIMEZONE:Europe/Zurich
CALSCALE:GREGORIAN
BEGIN:VEVENT
SUMMARY:FLUPPE Neuer deutscher Post-Punk
UID:236381
DTSTART;TZID=Europe/Zurich;VALUE=DATE-TIME:20260513T210000
DTEND;TZID=Europe/Zurich;VALUE=DATE-TIME:20260513T230000
LAST-MODIFIED;TZID=Europe/Zurich;VALUE=DATE-TIME:20260413T063838
DTSTAMP;VALUE=DATE-TIME:20260513T210000Z
LOCATION:Stereo Wonderland, Trierer Straße 65, 50674 Köln
URL://www.xn--untergrund-blttle-2qb.ch/events/236381/fluppe-neuer-deutscher-post-punk-stereo-wonderland-koeln.html
END:VEVENT
BEGIN:VTIMEZONE
TZID:Europe/Zurich
X-LIC-LOCATION:Europe/Zurich
BEGIN:STANDARD
DTSTART;VALUE=DATE-TIME:20260513T210000
TZNAME:CET
TZOFFSETFROM:+0200
TZOFFSETTO:+0100
END:STANDARD
BEGIN:DAYLIGHT
DTSTART;VALUE=DATE-TIME:20260513T210000
TZNAME:CEST
TZOFFSETFROM:+0100
TZOFFSETTO:+0200
END:DAYLIGHT
BEGIN:STANDARD
DTSTART;VALUE=DATE-TIME:20260513T210000
TZNAME:CET
TZOFFSETFROM:+0200
TZOFFSETTO:+0100
END:STANDARD
END:VTIMEZONE
END:VCALENDAR