BEGIN:VCALENDAR
VERSION:2.0
PRODID:-//UB-Event
TZID:Europe/Zurich
X-WR-TIMEZONE:Europe/Zurich
CALSCALE:GREGORIAN
BEGIN:VEVENT
SUMMARY:PRO-PAIN - Record Release Show - spielt einen Crossover aus Hardcore und Metal
UID:236377
DTSTART;TZID=Europe/Zurich;VALUE=DATE-TIME:20260513T210000
DTEND;TZID=Europe/Zurich;VALUE=DATE-TIME:20260513T230000
LAST-MODIFIED;TZID=Europe/Zurich;VALUE=DATE-TIME:20260413T063838
DTSTAMP;VALUE=DATE-TIME:20260513T210000Z
LOCATION:Turock, Viehofer Platz 3, 45127 Essen
URL://www.xn--untergrund-blttle-2qb.ch/events/236377/pro-pain-record-release-show-spielt-einen-crossover-aus-hardcore-und-metal-turock-essen.html
END:VEVENT
BEGIN:VTIMEZONE
TZID:Europe/Zurich
X-LIC-LOCATION:Europe/Zurich
BEGIN:STANDARD
DTSTART;VALUE=DATE-TIME:20260513T210000
TZNAME:CET
TZOFFSETFROM:+0200
TZOFFSETTO:+0100
END:STANDARD
BEGIN:DAYLIGHT
DTSTART;VALUE=DATE-TIME:20260513T210000
TZNAME:CEST
TZOFFSETFROM:+0100
TZOFFSETTO:+0200
END:DAYLIGHT
BEGIN:STANDARD
DTSTART;VALUE=DATE-TIME:20260513T210000
TZNAME:CET
TZOFFSETFROM:+0200
TZOFFSETTO:+0100
END:STANDARD
END:VTIMEZONE
END:VCALENDAR