BEGIN:VCALENDAR
VERSION:2.0
PRODID:-//UB-Event
TZID:Europe/Zurich
X-WR-TIMEZONE:Europe/Zurich
CALSCALE:GREGORIAN
BEGIN:VEVENT
SUMMARY:PSYCHO SEXY – RED HOT CHILI PEPPERS TRIBUTE BAND && NACHHOLSHOW VOM 05.09.
UID:236370
DTSTART;TZID=Europe/Zurich;VALUE=DATE-TIME:20260513T210000
DTEND;TZID=Europe/Zurich;VALUE=DATE-TIME:20260513T230000
LAST-MODIFIED;TZID=Europe/Zurich;VALUE=DATE-TIME:20260413T063838
DTSTAMP;VALUE=DATE-TIME:20260513T210000Z
LOCATION:LUX, Schwarzer Bär 2, 30449 Hannover
URL://www.xn--untergrund-blttle-2qb.ch/events/236370/psycho-sexy-red-hot-chili-peppers-tribute-band-nachholshow-vom-05-09-lux-hannover.html
END:VEVENT
BEGIN:VTIMEZONE
TZID:Europe/Zurich
X-LIC-LOCATION:Europe/Zurich
BEGIN:STANDARD
DTSTART;VALUE=DATE-TIME:20260513T210000
TZNAME:CET
TZOFFSETFROM:+0200
TZOFFSETTO:+0100
END:STANDARD
BEGIN:DAYLIGHT
DTSTART;VALUE=DATE-TIME:20260513T210000
TZNAME:CEST
TZOFFSETFROM:+0100
TZOFFSETTO:+0200
END:DAYLIGHT
BEGIN:STANDARD
DTSTART;VALUE=DATE-TIME:20260513T210000
TZNAME:CET
TZOFFSETFROM:+0200
TZOFFSETTO:+0100
END:STANDARD
END:VTIMEZONE
END:VCALENDAR