BEGIN:VCALENDAR
VERSION:2.0
PRODID:-//UB-Event
TZID:Europe/Zurich
X-WR-TIMEZONE:Europe/Zurich
CALSCALE:GREGORIAN
BEGIN:VEVENT
SUMMARY:NINA JUNE (NL) Singer/Songwriter, Pop, Ambient | "Seal Skin Tour"
UID:236363
DTSTART;TZID=Europe/Zurich;VALUE=DATE-TIME:20260513T210000
DTEND;TZID=Europe/Zurich;VALUE=DATE-TIME:20260513T230000
LAST-MODIFIED;TZID=Europe/Zurich;VALUE=DATE-TIME:20260413T063838
DTSTAMP;VALUE=DATE-TIME:20260513T210000Z
LOCATION:Nochtwache, Bernhard-Nocht-Straße 69a, 20359 Hamburg
URL://www.xn--untergrund-blttle-2qb.ch/events/236363/nina-june-nl-singer-songwriter-pop-ambient-seal-skin-tour-nochtwache-hamburg.html
END:VEVENT
BEGIN:VTIMEZONE
TZID:Europe/Zurich
X-LIC-LOCATION:Europe/Zurich
BEGIN:STANDARD
DTSTART;VALUE=DATE-TIME:20260513T210000
TZNAME:CET
TZOFFSETFROM:+0200
TZOFFSETTO:+0100
END:STANDARD
BEGIN:DAYLIGHT
DTSTART;VALUE=DATE-TIME:20260513T210000
TZNAME:CEST
TZOFFSETFROM:+0100
TZOFFSETTO:+0200
END:DAYLIGHT
BEGIN:STANDARD
DTSTART;VALUE=DATE-TIME:20260513T210000
TZNAME:CET
TZOFFSETFROM:+0200
TZOFFSETTO:+0100
END:STANDARD
END:VTIMEZONE
END:VCALENDAR