BEGIN:VCALENDAR
VERSION:2.0
PRODID:-//UB-Event
TZID:Europe/Zurich
X-WR-TIMEZONE:Europe/Zurich
CALSCALE:GREGORIAN
BEGIN:VEVENT
SUMMARY:nach der Revolte – Lesung mit Penny Prinz
UID:236342
DTSTART;TZID=Europe/Zurich;VALUE=DATE-TIME:20260522T190000
DTEND;TZID=Europe/Zurich;VALUE=DATE-TIME:20260522T210000
LAST-MODIFIED;TZID=Europe/Zurich;VALUE=DATE-TIME:20260414T054825
DTSTAMP;VALUE=DATE-TIME:20260522T190000Z
LOCATION:Kulturhaus Mikado, Kanalweg 52, 76149 Karlsruhe
URL://www.xn--untergrund-blttle-2qb.ch/events/236342/nach-der-revolte-lesung-mit-penny-prinz-kulturhaus-mikado-karlsruhe.html
END:VEVENT
BEGIN:VTIMEZONE
TZID:Europe/Zurich
X-LIC-LOCATION:Europe/Zurich
BEGIN:STANDARD
DTSTART;VALUE=DATE-TIME:20260522T190000
TZNAME:CET
TZOFFSETFROM:+0200
TZOFFSETTO:+0100
END:STANDARD
BEGIN:DAYLIGHT
DTSTART;VALUE=DATE-TIME:20260522T190000
TZNAME:CEST
TZOFFSETFROM:+0100
TZOFFSETTO:+0200
END:DAYLIGHT
BEGIN:STANDARD
DTSTART;VALUE=DATE-TIME:20260522T190000
TZNAME:CET
TZOFFSETFROM:+0200
TZOFFSETTO:+0100
END:STANDARD
END:VTIMEZONE
END:VCALENDAR