BEGIN:VCALENDAR
VERSION:2.0
PRODID:-//UB-Event
TZID:Europe/Zurich
X-WR-TIMEZONE:Europe/Zurich
CALSCALE:GREGORIAN
BEGIN:VEVENT
SUMMARY:Alte Hackerei Flohmarkt
UID:236341
DTSTART;TZID=Europe/Zurich;VALUE=DATE-TIME:20260516T160000
DTEND;TZID=Europe/Zurich;VALUE=DATE-TIME:20260516T180000
LAST-MODIFIED;TZID=Europe/Zurich;VALUE=DATE-TIME:20260414T054823
DTSTAMP;VALUE=DATE-TIME:20260516T160000Z
LOCATION:Alte Hackerei, Alter Schlachthof 11, 76131 Karlsruhe
URL://www.xn--untergrund-blttle-2qb.ch/events/236341/alte-hackerei-flohmarkt-alte-hackerei-karlsruhe.html
END:VEVENT
BEGIN:VTIMEZONE
TZID:Europe/Zurich
X-LIC-LOCATION:Europe/Zurich
BEGIN:STANDARD
DTSTART;VALUE=DATE-TIME:20260516T160000
TZNAME:CET
TZOFFSETFROM:+0200
TZOFFSETTO:+0100
END:STANDARD
BEGIN:DAYLIGHT
DTSTART;VALUE=DATE-TIME:20260516T160000
TZNAME:CEST
TZOFFSETFROM:+0100
TZOFFSETTO:+0200
END:DAYLIGHT
BEGIN:STANDARD
DTSTART;VALUE=DATE-TIME:20260516T160000
TZNAME:CET
TZOFFSETFROM:+0200
TZOFFSETTO:+0100
END:STANDARD
END:VTIMEZONE
END:VCALENDAR