BEGIN:VCALENDAR
VERSION:2.0
PRODID:-//UB-Event
TZID:Europe/Zurich
X-WR-TIMEZONE:Europe/Zurich
CALSCALE:GREGORIAN
BEGIN:VEVENT
SUMMARY:PARTY: Dangerfreak mit Axel Dangerfreak & René le Bon & DJ Ün
UID:236328
DTSTART;TZID=Europe/Zurich;VALUE=DATE-TIME:20260425T230000
DTEND;TZID=Europe/Zurich;VALUE=DATE-TIME:20260426T010000
LAST-MODIFIED;TZID=Europe/Zurich;VALUE=DATE-TIME:20260414T054812
DTSTAMP;VALUE=DATE-TIME:20260425T230000Z
LOCATION:Alte Hackerei, Alter Schlachthof 11, 76131 Karlsruhe
URL://www.xn--untergrund-blttle-2qb.ch/events/236328/party-dangerfreak-mit-axel-dangerfreak-rene-le-bon-dj-uen-alte-hackerei-karlsruhe.html
END:VEVENT
BEGIN:VTIMEZONE
TZID:Europe/Zurich
X-LIC-LOCATION:Europe/Zurich
BEGIN:STANDARD
DTSTART;VALUE=DATE-TIME:20260425T230000
TZNAME:CET
TZOFFSETFROM:+0200
TZOFFSETTO:+0100
END:STANDARD
BEGIN:DAYLIGHT
DTSTART;VALUE=DATE-TIME:20260425T230000
TZNAME:CEST
TZOFFSETFROM:+0100
TZOFFSETTO:+0200
END:DAYLIGHT
BEGIN:STANDARD
DTSTART;VALUE=DATE-TIME:20260425T230000
TZNAME:CET
TZOFFSETFROM:+0200
TZOFFSETTO:+0100
END:STANDARD
END:VTIMEZONE
END:VCALENDAR