BEGIN:VCALENDAR
VERSION:2.0
PRODID:-//UB-Event
TZID:Europe/Zurich
X-WR-TIMEZONE:Europe/Zurich
CALSCALE:GREGORIAN
BEGIN:VEVENT
SUMMARY:‪CARDIEL is a two-piece rock band originally formed in Mexico City Support: Stöts
UID:236285
DTSTART;TZID=Europe/Zurich;VALUE=DATE-TIME:20260512T210000
DTEND;TZID=Europe/Zurich;VALUE=DATE-TIME:20260512T230000
LAST-MODIFIED;TZID=Europe/Zurich;VALUE=DATE-TIME:20260412T063837
DTSTAMP;VALUE=DATE-TIME:20260512T210000Z
LOCATION:Peter Weiss Haus, Doberaner Strasse 21, 18057 Rostock
URL://www.xn--untergrund-blttle-2qb.ch/events/236285/cardiel-is-a-two-piece-rock-band-originally-formed-in-mexico-city-support-stoets-peter-weiss-haus-rostock.html
END:VEVENT
BEGIN:VTIMEZONE
TZID:Europe/Zurich
X-LIC-LOCATION:Europe/Zurich
BEGIN:STANDARD
DTSTART;VALUE=DATE-TIME:20260512T210000
TZNAME:CET
TZOFFSETFROM:+0200
TZOFFSETTO:+0100
END:STANDARD
BEGIN:DAYLIGHT
DTSTART;VALUE=DATE-TIME:20260512T210000
TZNAME:CEST
TZOFFSETFROM:+0100
TZOFFSETTO:+0200
END:DAYLIGHT
BEGIN:STANDARD
DTSTART;VALUE=DATE-TIME:20260512T210000
TZNAME:CET
TZOFFSETFROM:+0200
TZOFFSETTO:+0100
END:STANDARD
END:VTIMEZONE
END:VCALENDAR