BEGIN:VCALENDAR
VERSION:2.0
PRODID:-//UB-Event
TZID:Europe/Zurich
X-WR-TIMEZONE:Europe/Zurich
CALSCALE:GREGORIAN
BEGIN:VEVENT
SUMMARY:Belvedere & MakeWar
UID:236268
DTSTART;TZID=Europe/Zurich;VALUE=DATE-TIME:20260621T210000
DTEND;TZID=Europe/Zurich;VALUE=DATE-TIME:20260621T230000
LAST-MODIFIED;TZID=Europe/Zurich;VALUE=DATE-TIME:20260413T060612
DTSTAMP;VALUE=DATE-TIME:20260621T210000Z
LOCATION:Béi Chéz Heinz, Liepmannstraße 7b, 30453 Hannover
URL://www.xn--untergrund-blttle-2qb.ch/events/236268/belvedere-makewar-bei-chez-heinz-hannover.html
END:VEVENT
BEGIN:VTIMEZONE
TZID:Europe/Zurich
X-LIC-LOCATION:Europe/Zurich
BEGIN:STANDARD
DTSTART;VALUE=DATE-TIME:20260621T210000
TZNAME:CET
TZOFFSETFROM:+0200
TZOFFSETTO:+0100
END:STANDARD
BEGIN:DAYLIGHT
DTSTART;VALUE=DATE-TIME:20260621T210000
TZNAME:CEST
TZOFFSETFROM:+0100
TZOFFSETTO:+0200
END:DAYLIGHT
BEGIN:STANDARD
DTSTART;VALUE=DATE-TIME:20260621T210000
TZNAME:CET
TZOFFSETFROM:+0200
TZOFFSETTO:+0100
END:STANDARD
END:VTIMEZONE
END:VCALENDAR