BEGIN:VCALENDAR
VERSION:2.0
PRODID:-//UB-Event
TZID:Europe/Zurich
X-WR-TIMEZONE:Europe/Zurich
CALSCALE:GREGORIAN
BEGIN:VEVENT
SUMMARY:Commuter is a post-punk quartet based in Athens, Greece. Support: Inframince
UID:236202
DTSTART;TZID=Europe/Zurich;VALUE=DATE-TIME:20260511T210000
DTEND;TZID=Europe/Zurich;VALUE=DATE-TIME:20260511T230000
LAST-MODIFIED;TZID=Europe/Zurich;VALUE=DATE-TIME:20260411T063837
DTSTAMP;VALUE=DATE-TIME:20260511T210000Z
LOCATION:Glockenbachwerkstatt, Blumenstraße 7, 80331 München
URL://www.xn--untergrund-blttle-2qb.ch/events/236202/commuter-is-a-post-punk-quartet-based-in-athens-greece-support-inframince-glockenbachwerkstatt-muenchen.html
END:VEVENT
BEGIN:VTIMEZONE
TZID:Europe/Zurich
X-LIC-LOCATION:Europe/Zurich
BEGIN:STANDARD
DTSTART;VALUE=DATE-TIME:20260511T210000
TZNAME:CET
TZOFFSETFROM:+0200
TZOFFSETTO:+0100
END:STANDARD
BEGIN:DAYLIGHT
DTSTART;VALUE=DATE-TIME:20260511T210000
TZNAME:CEST
TZOFFSETFROM:+0100
TZOFFSETTO:+0200
END:DAYLIGHT
BEGIN:STANDARD
DTSTART;VALUE=DATE-TIME:20260511T210000
TZNAME:CET
TZOFFSETFROM:+0200
TZOFFSETTO:+0100
END:STANDARD
END:VTIMEZONE
END:VCALENDAR