BEGIN:VCALENDAR
VERSION:2.0
PRODID:-//UB-Event
TZID:Europe/Zurich
X-WR-TIMEZONE:Europe/Zurich
CALSCALE:GREGORIAN
BEGIN:VEVENT
SUMMARY:Tonkult jammt mit The Balanced Path Jazz-Jamsession
UID:236197
DTSTART;TZID=Europe/Zurich;VALUE=DATE-TIME:20260511T210000
DTEND;TZID=Europe/Zurich;VALUE=DATE-TIME:20260511T230000
LAST-MODIFIED;TZID=Europe/Zurich;VALUE=DATE-TIME:20260411T063837
DTSTAMP;VALUE=DATE-TIME:20260511T210000Z
LOCATION:Schon Schön, Grosse Bleiche 62, 55116 Mainz
URL://www.xn--untergrund-blttle-2qb.ch/events/236197/tonkult-jammt-mit-the-balanced-path-jazz-jamsession-schon-schoen-mainz.html
END:VEVENT
BEGIN:VTIMEZONE
TZID:Europe/Zurich
X-LIC-LOCATION:Europe/Zurich
BEGIN:STANDARD
DTSTART;VALUE=DATE-TIME:20260511T210000
TZNAME:CET
TZOFFSETFROM:+0200
TZOFFSETTO:+0100
END:STANDARD
BEGIN:DAYLIGHT
DTSTART;VALUE=DATE-TIME:20260511T210000
TZNAME:CEST
TZOFFSETFROM:+0100
TZOFFSETTO:+0200
END:DAYLIGHT
BEGIN:STANDARD
DTSTART;VALUE=DATE-TIME:20260511T210000
TZNAME:CET
TZOFFSETFROM:+0200
TZOFFSETTO:+0100
END:STANDARD
END:VTIMEZONE
END:VCALENDAR