BEGIN:VCALENDAR
VERSION:2.0
PRODID:-//UB-Event
TZID:Europe/Zurich
X-WR-TIMEZONE:Europe/Zurich
CALSCALE:GREGORIAN
BEGIN:VEVENT
SUMMARY:Urban Skies Tour 2026: Kebu (FIN)
UID:236176
DTSTART;TZID=Europe/Zurich;VALUE=DATE-TIME:20260505T210000
DTEND;TZID=Europe/Zurich;VALUE=DATE-TIME:20260505T230000
LAST-MODIFIED;TZID=Europe/Zurich;VALUE=DATE-TIME:20260411T063830
DTSTAMP;VALUE=DATE-TIME:20260505T210000Z
LOCATION:Rock Café, Národní 116/20, 110 00 Prag
URL://www.xn--untergrund-blttle-2qb.ch/events/236176/urban-skies-tour-2026-kebu-fin-rock-cafe-prag.html
END:VEVENT
BEGIN:VTIMEZONE
TZID:Europe/Zurich
X-LIC-LOCATION:Europe/Zurich
BEGIN:STANDARD
DTSTART;VALUE=DATE-TIME:20260505T210000
TZNAME:CET
TZOFFSETFROM:+0200
TZOFFSETTO:+0100
END:STANDARD
BEGIN:DAYLIGHT
DTSTART;VALUE=DATE-TIME:20260505T210000
TZNAME:CEST
TZOFFSETFROM:+0100
TZOFFSETTO:+0200
END:DAYLIGHT
BEGIN:STANDARD
DTSTART;VALUE=DATE-TIME:20260505T210000
TZNAME:CET
TZOFFSETFROM:+0200
TZOFFSETTO:+0100
END:STANDARD
END:VTIMEZONE
END:VCALENDAR