BEGIN:VCALENDAR
VERSION:2.0
PRODID:-//UB-Event
TZID:Europe/Zurich
X-WR-TIMEZONE:Europe/Zurich
CALSCALE:GREGORIAN
BEGIN:VEVENT
SUMMARY:THETOX Thrash‑Punk Band aus Bratislava ROCCO Streetpunk / Oi meets Ska
UID:236175
DTSTART;TZID=Europe/Zurich;VALUE=DATE-TIME:20260425T210000
DTEND;TZID=Europe/Zurich;VALUE=DATE-TIME:20260425T230000
LAST-MODIFIED;TZID=Europe/Zurich;VALUE=DATE-TIME:20260412T063820
DTSTAMP;VALUE=DATE-TIME:20260425T210000Z
LOCATION:Café Carina, Josefstädter Straße 84, 1080 Wien
URL://www.xn--untergrund-blttle-2qb.ch/events/236175/thetox-thrash-punk-band-aus-bratislava-rocco-streetpunk-oi-meets-ska-cafe-carina-wien.html
END:VEVENT
BEGIN:VTIMEZONE
TZID:Europe/Zurich
X-LIC-LOCATION:Europe/Zurich
BEGIN:STANDARD
DTSTART;VALUE=DATE-TIME:20260425T210000
TZNAME:CET
TZOFFSETFROM:+0200
TZOFFSETTO:+0100
END:STANDARD
BEGIN:DAYLIGHT
DTSTART;VALUE=DATE-TIME:20260425T210000
TZNAME:CEST
TZOFFSETFROM:+0100
TZOFFSETTO:+0200
END:DAYLIGHT
BEGIN:STANDARD
DTSTART;VALUE=DATE-TIME:20260425T210000
TZNAME:CET
TZOFFSETFROM:+0200
TZOFFSETTO:+0100
END:STANDARD
END:VTIMEZONE
END:VCALENDAR