BEGIN:VCALENDAR
VERSION:2.0
PRODID:-//UB-Event
TZID:Europe/Zurich
X-WR-TIMEZONE:Europe/Zurich
CALSCALE:GREGORIAN
BEGIN:VEVENT
SUMMARY:Museumsnacht Halle & Leipzig
UID:236112
DTSTART;TZID=Europe/Zurich;VALUE=DATE-TIME:20260509T180000
DTEND;TZID=Europe/Zurich;VALUE=DATE-TIME:20260509T200000
LAST-MODIFIED;TZID=Europe/Zurich;VALUE=DATE-TIME:20260411T062047
DTSTAMP;VALUE=DATE-TIME:20260509T180000Z
LOCATION:Gedenkstätte für Zwangsarbeit, Permoserstraße 15, 04318 Leipzig
URL://www.xn--untergrund-blttle-2qb.ch/events/236112/museumsnacht-halle-leipzig-gedenkstaette-fuer-zwangsarbeit-leipzig.html
END:VEVENT
BEGIN:VTIMEZONE
TZID:Europe/Zurich
X-LIC-LOCATION:Europe/Zurich
BEGIN:STANDARD
DTSTART;VALUE=DATE-TIME:20260509T180000
TZNAME:CET
TZOFFSETFROM:+0200
TZOFFSETTO:+0100
END:STANDARD
BEGIN:DAYLIGHT
DTSTART;VALUE=DATE-TIME:20260509T180000
TZNAME:CEST
TZOFFSETFROM:+0100
TZOFFSETTO:+0200
END:DAYLIGHT
BEGIN:STANDARD
DTSTART;VALUE=DATE-TIME:20260509T180000
TZNAME:CET
TZOFFSETFROM:+0200
TZOFFSETTO:+0100
END:STANDARD
END:VTIMEZONE
END:VCALENDAR