BEGIN:VCALENDAR
VERSION:2.0
PRODID:-//UB-Event
TZID:Europe/Zurich
X-WR-TIMEZONE:Europe/Zurich
CALSCALE:GREGORIAN
BEGIN:VEVENT
SUMMARY:Rundgang: Queer History oder Geschlecht, Begehren und Sexualität im Kontext von NS-Zwangsarbeit
UID:236095
DTSTART;TZID=Europe/Zurich;VALUE=DATE-TIME:20260509T110000
DTEND;TZID=Europe/Zurich;VALUE=DATE-TIME:20260509T130000
LAST-MODIFIED;TZID=Europe/Zurich;VALUE=DATE-TIME:20260411T062043
DTSTAMP;VALUE=DATE-TIME:20260509T110000Z
LOCATION:Riebeckstrasse 63, Riebeckstraße 63, 04317 Leipzig
URL://www.xn--untergrund-blttle-2qb.ch/events/236095/rundgang-queer-history-oder-geschlecht-begehren-und-sexualitaet-im-kontext-von-ns-zwangsarbeit-riebeckstrasse-63-leipzig.html
END:VEVENT
BEGIN:VTIMEZONE
TZID:Europe/Zurich
X-LIC-LOCATION:Europe/Zurich
BEGIN:STANDARD
DTSTART;VALUE=DATE-TIME:20260509T110000
TZNAME:CET
TZOFFSETFROM:+0200
TZOFFSETTO:+0100
END:STANDARD
BEGIN:DAYLIGHT
DTSTART;VALUE=DATE-TIME:20260509T110000
TZNAME:CEST
TZOFFSETFROM:+0100
TZOFFSETTO:+0200
END:DAYLIGHT
BEGIN:STANDARD
DTSTART;VALUE=DATE-TIME:20260509T110000
TZNAME:CET
TZOFFSETFROM:+0200
TZOFFSETTO:+0100
END:STANDARD
END:VTIMEZONE
END:VCALENDAR