BEGIN:VCALENDAR
VERSION:2.0
PRODID:-//UB-Event
TZID:Europe/Zurich
X-WR-TIMEZONE:Europe/Zurich
CALSCALE:GREGORIAN
BEGIN:VEVENT
SUMMARY:Präsentation der Stelen auf dem Gelände der Riebeckstrasse 63 und der englischen Broschüre
UID:236094
DTSTART;TZID=Europe/Zurich;VALUE=DATE-TIME:20260504T170000
DTEND;TZID=Europe/Zurich;VALUE=DATE-TIME:20260504T190000
LAST-MODIFIED;TZID=Europe/Zurich;VALUE=DATE-TIME:20260411T062035
DTSTAMP;VALUE=DATE-TIME:20260504T170000Z
LOCATION:Riebeckstrasse 63, Riebeckstraße 63, 04317 Leipzig
URL://www.xn--untergrund-blttle-2qb.ch/events/236094/praesentation-der-stelen-auf-dem-gelaende-der-riebeckstrasse-63-und-der-englischen-broschuere-riebeckstrasse-63-leipzig.html
END:VEVENT
BEGIN:VTIMEZONE
TZID:Europe/Zurich
X-LIC-LOCATION:Europe/Zurich
BEGIN:STANDARD
DTSTART;VALUE=DATE-TIME:20260504T170000
TZNAME:CET
TZOFFSETFROM:+0200
TZOFFSETTO:+0100
END:STANDARD
BEGIN:DAYLIGHT
DTSTART;VALUE=DATE-TIME:20260504T170000
TZNAME:CEST
TZOFFSETFROM:+0100
TZOFFSETTO:+0200
END:DAYLIGHT
BEGIN:STANDARD
DTSTART;VALUE=DATE-TIME:20260504T170000
TZNAME:CET
TZOFFSETFROM:+0200
TZOFFSETTO:+0100
END:STANDARD
END:VTIMEZONE
END:VCALENDAR