BEGIN:VCALENDAR
VERSION:2.0
PRODID:-//UB-Event
TZID:Europe/Zurich
X-WR-TIMEZONE:Europe/Zurich
CALSCALE:GREGORIAN
BEGIN:VEVENT
SUMMARY:LÙISA (D) Indiepop, Electronica, New Folk | "Call Me The Witch Tour 2026"
UID:236073
DTSTART;TZID=Europe/Zurich;VALUE=DATE-TIME:20260510T210000
DTEND;TZID=Europe/Zurich;VALUE=DATE-TIME:20260510T230000
LAST-MODIFIED;TZID=Europe/Zurich;VALUE=DATE-TIME:20260410T063837
DTSTAMP;VALUE=DATE-TIME:20260510T210000Z
LOCATION:Nochtspeicher, Bernhard-Nocht-Strasse 69a, 20359 Hamburg
URL://www.xn--untergrund-blttle-2qb.ch/events/236073/luisa-d-indiepop-electronica-new-folk-call-me-the-witch-tour-2026-nochtspeicher-hamburg.html
END:VEVENT
BEGIN:VTIMEZONE
TZID:Europe/Zurich
X-LIC-LOCATION:Europe/Zurich
BEGIN:STANDARD
DTSTART;VALUE=DATE-TIME:20260510T210000
TZNAME:CET
TZOFFSETFROM:+0200
TZOFFSETTO:+0100
END:STANDARD
BEGIN:DAYLIGHT
DTSTART;VALUE=DATE-TIME:20260510T210000
TZNAME:CEST
TZOFFSETFROM:+0100
TZOFFSETTO:+0200
END:DAYLIGHT
BEGIN:STANDARD
DTSTART;VALUE=DATE-TIME:20260510T210000
TZNAME:CET
TZOFFSETFROM:+0200
TZOFFSETTO:+0100
END:STANDARD
END:VTIMEZONE
END:VCALENDAR